BEGIN:VCALENDAR
VERSION:2.0
PRODID:icalendar-ruby
CALSCALE:GREGORIAN
METHOD:PUBLISH
BEGIN:VEVENT
DTSTAMP:20260423T005651Z
UID:218-33616@bcsynod.org
DTSTART:20260503T170000Z
DTEND:20260503T200000Z
CLASS:PUBLIC
CREATED:20260422T124638
DESCRIPTION:Join us with Joy on welcoming Rev. Elisia Deifeld!
LAST-MODIFIED:20260422T124638
LOCATION:Lutheran Church of the Cross\, 3787 Cedar Hill Road\, Victoria \, 
 BC\, V8P 3Z4
SUMMARY:Installation Invitation of Rev. Elisia Deifeld
URL;VALUE=URI:https://bcsynod.org/events/installation-invitation-of-rev-eli
 sia-deifeld/2026-05-03
ATTACH;FILENAME=2026-04-14-Rev.-Eli-Deifeld.jpg;FMTTYPE=image/jpeg:https://
 dq5pwpg1q8ru0.cloudfront.net/2026/04/22/19/45/29/0b3fb973-52d9-41be-a050-c
 af8453d0eb1/2026-04-14-Rev.-Eli-Deifeld.jpg
ATTACH;FILENAME=2026 04 14 Rev. Eli Deifeld .pdf;FMTTYPE=application/pdf:ht
 tps://dq5pwpg1q8ru0.cloudfront.net/2026/04/22/19/45/29/eb233638-a0bf-4a0f-
 a35a-24d6e9f25a26/2026%2004%2014%20Rev.%20Eli%20Deifeld%20.pdf
END:VEVENT
END:VCALENDAR
