BEGIN:VCALENDAR
VERSION:2.0
PRODID:icalendar-ruby
CALSCALE:GREGORIAN
METHOD:PUBLISH
BEGIN:VEVENT
DTSTAMP:20260421T090119Z
UID:217-33614@bcsynod.org
DTSTART:20260426T200000Z
DTEND:20260426T210000Z
CLASS:PUBLIC
CREATED:20260420T123101
DESCRIPTION:Join us on 26th April for an guided workshop with the LTS Presi
 dent \,Rev. Dr. William Harrison!
LAST-MODIFIED:20260420T123101
LOCATION:Lutheran Church of the Cross\, 3787 Cedar Hill Road\, Victoria \, 
 BC\, V8P 3Z4
SUMMARY:Rev.Dr. William Harrison's Workshop
URL;VALUE=URI:https://bcsynod.org/events/rev-dr-william-harrisons-workshop-
 -217/2026-04-26
ATTACH;FILENAME=IMG_3843.jpeg;FMTTYPE=image/jpeg:https://dq5pwpg1q8ru0.clou
 dfront.net/2026/04/20/19/29/26/1c30d0fb-d671-46cd-97de-211b5c0a9b88/IMG_38
 43.jpeg
ATTACH;FILENAME=Poster- Lutheran Church of the Cross.pdf;FMTTYPE=applicatio
 n/pdf:https://dq5pwpg1q8ru0.cloudfront.net/2026/04/20/19/29/25/53ae93d6-e4
 f4-453a-b57e-f0c61c39d94f/Poster-%20Lutheran%20Church%20of%20the%20Cross.p
 df
END:VEVENT
END:VCALENDAR
